{
 "currentVersion": 10.91,
 "serviceDescription": "BCPAO 2026 Aerial Imagery by EagleView. ",
 "mapName": "Layers",
 "description": "",
 "copyrightText": "BCAPO Eagleview Pictometry",
 "supportsDynamicLayers": false,
 "layers": [
  {
   "id": 0,
   "name": "Parcels",
   "parentLayerId": -1,
   "defaultVisibility": false,
   "subLayerIds": null,
   "minScale": 0,
   "maxScale": 0,
   "type": "Feature Layer",
   "geometryType": "esriGeometryPolygon"
  }
 ],
 "tables": [],
 "spatialReference": {
  "wkid": 2881,
  "latestWkid": 2881
 },
 "singleFusedMapCache": true,
 "tileInfo": {
  "rows": 256,
  "cols": 256,
  "dpi": 96,
  "format": "MIXED",
  "compressionQuality": 75,
  "origin": {
   "x": -17791300,
   "y": 2.3981099999999993E7
  },
  "spatialReference": {
   "wkid": 2881,
   "latestWkid": 2881
  },
  "lods": [
   {
    "level": 0,
    "resolution": 1736.111111111111,
    "scale": 2000000
   },
   {
    "level": 1,
    "resolution": 868.0555555555555,
    "scale": 1000000
   },
   {
    "level": 2,
    "resolution": 607.6388888888888,
    "scale": 700000
   },
   {
    "level": 3,
    "resolution": 434.02777777777777,
    "scale": 500000
   },
   {
    "level": 4,
    "resolution": 217.01388888888889,
    "scale": 250000
   },
   {
    "level": 5,
    "resolution": 108.50694444444444,
    "scale": 125000
   },
   {
    "level": 6,
    "resolution": 55.55555555555555,
    "scale": 64000
   },
   {
    "level": 7,
    "resolution": 27.777777777777775,
    "scale": 32000
   },
   {
    "level": 8,
    "resolution": 13.888888888888888,
    "scale": 16000
   },
   {
    "level": 9,
    "resolution": 6.944444444444444,
    "scale": 8000
   },
   {
    "level": 10,
    "resolution": 3.472222222222222,
    "scale": 4000
   },
   {
    "level": 11,
    "resolution": 1.736111111111111,
    "scale": 2000
   },
   {
    "level": 12,
    "resolution": 0.8680555555555555,
    "scale": 1000
   },
   {
    "level": 13,
    "resolution": 0.6510416666666666,
    "scale": 750
   },
   {
    "level": 14,
    "resolution": 0.43402777777777773,
    "scale": 500
   },
   {
    "level": 15,
    "resolution": 0.21701388888888887,
    "scale": 250
   }
  ]
 },
 "initialExtent": {
  "xmin": 461466.85673579713,
  "ymin": 1381599.041333426,
  "xmax": 1033966.8111955286,
  "ymax": 1638103.1624957302,
  "spatialReference": {
   "wkid": 2881,
   "latestWkid": 2881
  }
 },
 "fullExtent": {
  "xmin": 660826.8374704123,
  "ymin": 1268161.122509241,
  "xmax": 834606.8304609135,
  "ymax": 1620486.8748773262,
  "spatialReference": {
   "wkid": 2881,
   "latestWkid": 2881
  }
 },
 "minScale": 2000000,
 "maxScale": 250,
 "units": "esriFeet",
 "supportedImageFormatTypes": "PNG32,PNG24,PNG,JPG,DIB,TIFF,EMF,PS,PDF,GIF,SVG,SVGZ,BMP",
 "documentInfo": {
  "Title": "",
  "Author": "",
  "Comments": "",
  "Subject": "",
  "Category": "",
  "AntialiasingMode": "None",
  "TextAntialiasingMode": "Force",
  "Keywords": "BCPAO,EagleView,2026"
 },
 "capabilities": "Map",
 "supportedQueryFormats": "JSON, geoJSON",
 "exportTilesAllowed": false,
 "referenceScale": 0,
 "supportsDatumTransformation": true,
 "maxRecordCount": 9999999,
 "maxImageHeight": 4096,
 "maxImageWidth": 4096,
 "supportedExtensions": ""
}
